BEGIN:VCALENDAR
VERSION:2.0
PRODID:-//Contratero//ES
CALSCALE:GREGORIAN
METHOD:PUBLISH
BEGIN:VEVENT
UID:20200157@contratero.es
DTSTAMP:20260422T080030Z
DTSTART:20200213T235959
DTEND:20200214T005959
SUMMARY:Cierre: Contratación del servicio de licencias uso de la h
DESCRIPTION:Contratación del servicio de licencias uso de la herramienta de gestión de ventas ZOHO CRM para la gestión de acciones comerciales por los delegados de ventas con las cuentas de Paradores de Turismo d...\\n\\nOrganismo: Paradores de Turismo de España\, S.M.E.\, S.A.\\n\\nVer en Contratero: https://contratero.es/contracts/20200157
URL:https://contratero.es/contracts/20200157
STATUS:CONFIRMED
BEGIN:VALARM
TRIGGER:-P1D
ACTION:DISPLAY
DESCRIPTION:Recordatorio: Contratación del servicio de l
END:VALARM
END:VEVENT
END:VCALENDAR