BEGIN:VCALENDAR
VERSION:2.0
PRODID:-//Contratero//ES
CALSCALE:GREGORIAN
METHOD:PUBLISH
BEGIN:VEVENT
UID:202001PN0003@contratero.es
DTSTAMP:20260422T225439Z
DTSTART:20210107T235959
DTEND:20210108T005959
SUMMARY:Cierre: Servicio de mantenimiento de equipamiento crítico 
DESCRIPTION:Servicio de mantenimiento de equipamiento crítico (físico y lógico) del fabricante ORACLE\\n\\nOrganismo: Secretaría General de Salud Digital\, Información e Innovacion del Sistema Nacional de Salud\\n\\nVer en Contratero: https://contratero.es/contracts/202001PN0003
URL:https://contratero.es/contracts/202001PN0003
STATUS:CONFIRMED
BEGIN:VALARM
TRIGGER:-P1D
ACTION:DISPLAY
DESCRIPTION:Recordatorio: Servicio de mantenimiento de e
END:VALARM
END:VEVENT
END:VCALENDAR