BEGIN:VCALENDAR
VERSION:2.0
PRODID:-//Contratero//ES
CALSCALE:GREGORIAN
METHOD:PUBLISH
BEGIN:VEVENT
UID:2020033152@contratero.es
DTSTAMP:20260419T175659Z
DTSTART:20201110T235959
DTEND:20201111T005959
SUMMARY:Cierre: servicio corporativo de telecomunicaciones de la d
DESCRIPTION:servicio corporativo de telecomunicaciones de la diputacion de pontevedra\\n\\nOrganismo: Presidencia de la Diputación Provincial de Pontevedra\\n\\nVer en Contratero: https://contratero.es/contracts/2020033152
URL:https://contratero.es/contracts/2020033152
STATUS:CONFIRMED
BEGIN:VALARM
TRIGGER:-P1D
ACTION:DISPLAY
DESCRIPTION:Recordatorio: servicio corporativo de teleco
END:VALARM
END:VEVENT
END:VCALENDAR