BEGIN:VCALENDAR
VERSION:2.0
PRODID:-//Contratero//ES
CALSCALE:GREGORIAN
METHOD:PUBLISH
BEGIN:VEVENT
UID:202012PA0002@contratero.es
DTSTAMP:20260424T175026Z
DTSTART:20201110T235959
DTEND:20201111T005959
SUMMARY:Cierre: Producción de los cuestionarios de examen y hojas 
DESCRIPTION:Producción de los cuestionarios de examen y hojas de respuesta correspondientes a la convocatoria de pruebas selectivas 2020 para el acceso en el año 2021\, a plazas de formación sanitaria especializad...\\n\\nOrganismo: Dirección General de Ordenación Profesional\\n\\nVer en Contratero: https://contratero.es/contracts/202012PA0002
URL:https://contratero.es/contracts/202012PA0002
STATUS:CONFIRMED
BEGIN:VALARM
TRIGGER:-P1D
ACTION:DISPLAY
DESCRIPTION:Recordatorio: Producción de los cuestionario
END:VALARM
END:VEVENT
END:VCALENDAR