BEGIN:VCALENDAR
VERSION:2.0
PRODID:-//Contratero//ES
CALSCALE:GREGORIAN
METHOD:PUBLISH
BEGIN:VEVENT
UID:202016607003@contratero.es
DTSTAMP:20260425T145727Z
DTSTART:20190826T235959
DTEND:20190827T005959
SUMMARY:Cierre: Apoyo a la gestión de datos de productos de calida
DESCRIPTION:Apoyo a la gestión de datos de productos de calidad diferenciada y de la producción ecológica 2019-2021\\n\\nOrganismo: Junta de Contratación del Ministerio de Agricultura\, Alimentación y Medio Ambiente\\n\\nVer en Contratero: https://contratero.es/contracts/202016607003
URL:https://contratero.es/contracts/202016607003
STATUS:CONFIRMED
BEGIN:VALARM
TRIGGER:-P1D
ACTION:DISPLAY
DESCRIPTION:Recordatorio: Apoyo a la gestión de datos de
END:VALARM
END:VEVENT
END:VCALENDAR