BEGIN:VCALENDAR
VERSION:2.0
PRODID:-//Contratero//ES
CALSCALE:GREGORIAN
METHOD:PUBLISH
BEGIN:VEVENT
UID:2020CON00517@contratero.es
DTSTAMP:20260425T005114Z
DTSTART:20201105T235959
DTEND:20201106T005959
SUMMARY:Cierre: Servicios de Plataforma de Administración Electrón
DESCRIPTION:Servicios de Plataforma de Administración Electrónica\, Estrategia DUSI “Valdepeñas ON”\, cofinanciado 80% por la Unión Europea\, a través del Fondo Europeo de Desarrollo Regional (FEDER)\, en el marco de...\\n\\nOrganismo: Pleno del Ayuntamiento de Valdepeñas\\n\\nVer en Contratero: https://contratero.es/contracts/2020CON00517
URL:https://contratero.es/contracts/2020CON00517
STATUS:CONFIRMED
BEGIN:VALARM
TRIGGER:-P1D
ACTION:DISPLAY
DESCRIPTION:Recordatorio: Servicios de Plataforma de Adm
END:VALARM
END:VEVENT
END:VCALENDAR