BEGIN:VCALENDAR
VERSION:2.0
PRODID:-//Contratero//ES
CALSCALE:GREGORIAN
METHOD:PUBLISH
BEGIN:VEVENT
UID:2020N0059006@contratero.es
DTSTAMP:20260424T020845Z
DTSTART:20210210T235959
DTEND:20210211T005959
SUMMARY:Cierre: Recogida de datos de la Encuesta sobre Equipamient
DESCRIPTION:Recogida de datos de la Encuesta sobre Equipamiento y Uso de Tecnologías de Información y Comunicaciones en los Hogares en 2021 (TIC-H)\\n\\nOrganismo: Instituto Nacional de Estadística INE\\n\\nVer en Contratero: https://contratero.es/contracts/2020N0059006
URL:https://contratero.es/contracts/2020N0059006
STATUS:CONFIRMED
BEGIN:VALARM
TRIGGER:-P1D
ACTION:DISPLAY
DESCRIPTION:Recordatorio: Recogida de datos de la Encues
END:VALARM
END:VEVENT
END:VCALENDAR