BEGIN:VCALENDAR
VERSION:2.0
PRODID:-//Contratero//ES
CALSCALE:GREGORIAN
METHOD:PUBLISH
BEGIN:VEVENT
UID:2020_069@contratero.es
DTSTAMP:20260425T191544Z
DTSTART:20210111T235959
DTEND:20210112T005959
SUMMARY:Cierre: Soporte y mantenimiento de “Posidònia”
DESCRIPTION:Soporte y mantenimiento de “Posidònia”\\n\\nOrganismo: Presidencia de la Autoridad Portuaria de Tarragona\\n\\nVer en Contratero: https://contratero.es/contracts/2020_069
URL:https://contratero.es/contracts/2020_069
STATUS:CONFIRMED
BEGIN:VALARM
TRIGGER:-P1D
ACTION:DISPLAY
DESCRIPTION:Recordatorio: Soporte y mantenimiento de “Po
END:VALARM
END:VEVENT
END:VCALENDAR