BEGIN:VCALENDAR
VERSION:2.0
PRODID:-//Contratero//ES
CALSCALE:GREGORIAN
METHOD:PUBLISH
BEGIN:VEVENT
UID:2021-002-027@contratero.es
DTSTAMP:20260425T142459Z
DTSTART:20210316T235959
DTEND:20210317T005959
SUMMARY:Cierre: Servicio de mantenimiento del gestor de colas del 
DESCRIPTION:Servicio de mantenimiento del gestor de colas del Hospital de Mutua Montañesa\\n\\nOrganismo: Director Gerente de Mutua Montañesa\\n\\nVer en Contratero: https://contratero.es/contracts/2021-002-027
URL:https://contratero.es/contracts/2021-002-027
STATUS:CONFIRMED
BEGIN:VALARM
TRIGGER:-P1D
ACTION:DISPLAY
DESCRIPTION:Recordatorio: Servicio de mantenimiento del 
END:VALARM
END:VEVENT
END:VCALENDAR