BEGIN:VCALENDAR
VERSION:2.0
PRODID:-//Contratero//ES
CALSCALE:GREGORIAN
METHOD:PUBLISH
BEGIN:VEVENT
UID:2021-002-162@contratero.es
DTSTAMP:20260425T012930Z
DTSTART:20210730T235959
DTEND:20210731T005959
SUMMARY:Cierre: Servicio de mantenimiento de la aplicación SIGIT p
DESCRIPTION:Servicio de mantenimiento de la aplicación SIGIT para Mutua Montañesa\\n\\nOrganismo: Director Gerente de Mutua Montañesa\\n\\nVer en Contratero: https://contratero.es/contracts/2021-002-162
URL:https://contratero.es/contracts/2021-002-162
STATUS:CONFIRMED
BEGIN:VALARM
TRIGGER:-P1D
ACTION:DISPLAY
DESCRIPTION:Recordatorio: Servicio de mantenimiento de l
END:VALARM
END:VEVENT
END:VCALENDAR