BEGIN:VCALENDAR
VERSION:2.0
PRODID:-//Contratero//ES
CALSCALE:GREGORIAN
METHOD:PUBLISH
BEGIN:VEVENT
UID:2021-00222@contratero.es
DTSTAMP:20260424T185710Z
DTSTART:20210606T235959
DTEND:20210607T005959
SUMMARY:Cierre: Servicio de mantenimiento de la aplicacion calculo
DESCRIPTION:Servicio de mantenimiento de la aplicacion calculo de marchas\\n\\nOrganismo: Dirección General de Renfe Viajeros Sociedad Mercantil Estatal\, S.A.\\n\\nVer en Contratero: https://contratero.es/contracts/2021-00222
URL:https://contratero.es/contracts/2021-00222
STATUS:CONFIRMED
BEGIN:VALARM
TRIGGER:-P1D
ACTION:DISPLAY
DESCRIPTION:Recordatorio: Servicio de mantenimiento de l
END:VALARM
END:VEVENT
END:VCALENDAR