BEGIN:VCALENDAR
VERSION:2.0
PRODID:-//Contratero//ES
CALSCALE:GREGORIAN
METHOD:PUBLISH
BEGIN:VEVENT
UID:2021-00379@contratero.es
DTSTAMP:20260424T105502Z
DTSTART:20220104T235959
DTEND:20220105T005959
SUMMARY:Cierre: Renovación mantenimiento de licencias Airwatch par
DESCRIPTION:Renovación mantenimiento de licencias Airwatch para la Autoridad Portuaria de Barcelona.- Clave de expediente: 2021R330056\\n\\nOrganismo: Presidencia del Consejo de Administración de la Autoridad Portuaria de Barcelona (PORT DE BARCELONA)\\n\\nVer en Contratero: https://contratero.es/contracts/2021-00379
URL:https://contratero.es/contracts/2021-00379
STATUS:CONFIRMED
BEGIN:VALARM
TRIGGER:-P1D
ACTION:DISPLAY
DESCRIPTION:Recordatorio: Renovación mantenimiento de li
END:VALARM
END:VEVENT
END:VCALENDAR