BEGIN:VCALENDAR
VERSION:2.0
PRODID:-//Contratero//ES
CALSCALE:GREGORIAN
METHOD:PUBLISH
BEGIN:VEVENT
UID:2021-01199@contratero.es
DTSTAMP:20260424T092434Z
DTSTART:20220207T235959
DTEND:20220208T005959
SUMMARY:Cierre: Adquisición de licencias y mantenimiento\, soporte 
DESCRIPTION:Adquisición de licencias y mantenimiento\, soporte y actualización de productos software Oracle (Acuerdo ULA)\\n\\nOrganismo: Dirección General Económico-Financiera de la Entidad Pública Empresarial RENFE-Operadora\\n\\nVer en Contratero: https://contratero.es/contracts/2021-01199
URL:https://contratero.es/contracts/2021-01199
STATUS:CONFIRMED
BEGIN:VALARM
TRIGGER:-P1D
ACTION:DISPLAY
DESCRIPTION:Recordatorio: Adquisición de licencias y man
END:VALARM
END:VEVENT
END:VCALENDAR