BEGIN:VCALENDAR
VERSION:2.0
PRODID:-//Contratero//ES
CALSCALE:GREGORIAN
METHOD:PUBLISH
BEGIN:VEVENT
UID:2021-0196@contratero.es
DTSTAMP:20260421T220515Z
DTSTART:20211214T235959
DTEND:20211215T005959
SUMMARY:Cierre: Contratación del servicio de soporte técnico y man
DESCRIPTION:Contratación del servicio de soporte técnico y mantenimiento de la aplicación de gestión de tesorería y conectividad con entidades bancarias Sage-XRT\, en Paradores de Turismo de España\, S.M.E.\, S.A.\\n\\nOrganismo: Paradores de Turismo de España\, S.M.E.\, S.A.\\n\\nVer en Contratero: https://contratero.es/contracts/2021-0196
URL:https://contratero.es/contracts/2021-0196
STATUS:CONFIRMED
BEGIN:VALARM
TRIGGER:-P1D
ACTION:DISPLAY
DESCRIPTION:Recordatorio: Contratación del servicio de s
END:VALARM
END:VEVENT
END:VCALENDAR