BEGIN:VCALENDAR
VERSION:2.0
PRODID:-//Contratero//ES
CALSCALE:GREGORIAN
METHOD:PUBLISH
BEGIN:VEVENT
UID:2021/0001@contratero.es
DTSTAMP:20260424T105139Z
DTSTART:20211202T235959
DTEND:20211203T005959
SUMMARY:Cierre: Desarrollo de una Plataforma Digital para la Evalu
DESCRIPTION:Desarrollo de una Plataforma Digital para la Evaluación de los procesos de Calidad e Innovación de la Administración Pública\\n\\nOrganismo: Dirección General de Gobernanza Pública\\n\\nVer en Contratero: https://contratero.es/contracts/2021/0001
URL:https://contratero.es/contracts/2021/0001
STATUS:CONFIRMED
BEGIN:VALARM
TRIGGER:-P1D
ACTION:DISPLAY
DESCRIPTION:Recordatorio: Desarrollo de una Plataforma D
END:VALARM
END:VEVENT
END:VCALENDAR