BEGIN:VCALENDAR
VERSION:2.0
PRODID:-//Contratero//ES
CALSCALE:GREGORIAN
METHOD:PUBLISH
BEGIN:VEVENT
UID:2021/000460@contratero.es
DTSTAMP:20260423T214409Z
DTSTART:20210608T235959
DTEND:20210609T005959
SUMMARY:Cierre: Servicio de gestión de flota de los vehículos del 
DESCRIPTION:Servicio de gestión de flota de los vehículos del Servicio de Prevención\, Extinción de Incendios y Salvamento del Ayuntamiento de Sevilla.\\n\\nOrganismo: Junta de Gobierno del Ayuntamiento de Sevilla\\n\\nVer en Contratero: https://contratero.es/contracts/2021/000460
URL:https://contratero.es/contracts/2021/000460
STATUS:CONFIRMED
BEGIN:VALARM
TRIGGER:-P1D
ACTION:DISPLAY
DESCRIPTION:Recordatorio: Servicio de gestión de flota d
END:VALARM
END:VEVENT
END:VCALENDAR