BEGIN:VCALENDAR
VERSION:2.0
PRODID:-//Contratero//ES
CALSCALE:GREGORIAN
METHOD:PUBLISH
BEGIN:VEVENT
UID:2021/000914@contratero.es
DTSTAMP:20260422T173849Z
DTSTART:20211105T235959
DTEND:20211106T005959
SUMMARY:Cierre: Servicio de productividad basado en la nube desarr
DESCRIPTION:Servicio de productividad basado en la nube desarrollado por Google a través de la plataforma Gsuite para el Instituto Municipal de Deportes del Ayuntamiento de Sevilla.\\n\\nOrganismo: Vicepresidencia del Instituto Municipal de Deportes del Ayuntamiento de Sevilla\\n\\nVer en Contratero: https://contratero.es/contracts/2021/000914
URL:https://contratero.es/contracts/2021/000914
STATUS:CONFIRMED
BEGIN:VALARM
TRIGGER:-P1D
ACTION:DISPLAY
DESCRIPTION:Recordatorio: Servicio de productividad basa
END:VALARM
END:VEVENT
END:VCALENDAR