BEGIN:VCALENDAR
VERSION:2.0
PRODID:-//Contratero//ES
CALSCALE:GREGORIAN
METHOD:PUBLISH
BEGIN:VEVENT
UID:2021/0010/SM@contratero.es
DTSTAMP:20260421T122902Z
DTSTART:20210407T235959
DTEND:20210408T005959
SUMMARY:Cierre: Renovación de Licencias de Software Topográfico Pr
DESCRIPTION:Renovación de Licencias de Software Topográfico Protopo empleado por Aigües i Sanejament d'Elx\\n\\nOrganismo: Gerencia de Aigues i Sanejament d'Elx S.A.\\n\\nVer en Contratero: https://contratero.es/contracts/2021/0010/SM
URL:https://contratero.es/contracts/2021/0010/SM
STATUS:CONFIRMED
BEGIN:VALARM
TRIGGER:-P1D
ACTION:DISPLAY
DESCRIPTION:Recordatorio: Renovación de Licencias de Sof
END:VALARM
END:VEVENT
END:VCALENDAR