BEGIN:VCALENDAR
VERSION:2.0
PRODID:-//Contratero//ES
CALSCALE:GREGORIAN
METHOD:PUBLISH
BEGIN:VEVENT
UID:2021/002096@contratero.es
DTSTAMP:20260420T113359Z
DTSTART:20220302T235959
DTEND:20220303T005959
SUMMARY:Cierre: Servicio de mantenimiento y soporte del software d
DESCRIPTION:Servicio de mantenimiento y soporte del software de gestión de padrón municipal de habitantes (PMH)\\n\\nOrganismo: Junta de Gobierno Local del Ayuntamiento de Fuenlabrada\\n\\nVer en Contratero: https://contratero.es/contracts/2021/002096
URL:https://contratero.es/contracts/2021/002096
STATUS:CONFIRMED
BEGIN:VALARM
TRIGGER:-P1D
ACTION:DISPLAY
DESCRIPTION:Recordatorio: Servicio de mantenimiento y so
END:VALARM
END:VEVENT
END:VCALENDAR