BEGIN:VCALENDAR
VERSION:2.0
PRODID:-//Contratero//ES
CALSCALE:GREGORIAN
METHOD:PUBLISH
BEGIN:VEVENT
UID:2021/016027@contratero.es
DTSTAMP:20260422T182123Z
DTSTART:20220314T235959
DTEND:20220315T005959
SUMMARY:Cierre: Contratación de servicios complementarios para tra
DESCRIPTION:Contratación de servicios complementarios para tratamiento de datos\, impresión y distribución de documentos para desarrollo de procesos selectivos del Sescam\, derivados de las OEPs 2019 y 2020.\\n\\nOrganismo: Secretaria General del Servicio de Salud de Castilla-La Mancha\\n\\nVer en Contratero: https://contratero.es/contracts/2021/016027
URL:https://contratero.es/contracts/2021/016027
STATUS:CONFIRMED
BEGIN:VALARM
TRIGGER:-P1D
ACTION:DISPLAY
DESCRIPTION:Recordatorio: Contratación de servicios comp
END:VALARM
END:VEVENT
END:VCALENDAR