BEGIN:VCALENDAR
VERSION:2.0
PRODID:-//Contratero//ES
CALSCALE:GREGORIAN
METHOD:PUBLISH
BEGIN:VEVENT
UID:2021/022@contratero.es
DTSTAMP:20260425T141448Z
DTSTART:20210222T235959
DTEND:20210223T005959
SUMMARY:Cierre: Servicios de mantenimiento y soporte del Sistema d
DESCRIPTION:Servicios de mantenimiento y soporte del Sistema de virtualización basado en VMWARE\, además del mantenimiento y soporte técnico de un FiREWALL FORTINET FG-201E de Mercados Centrales de Abastecimiento ...\\n\\nOrganismo: Dirección General de Mercados Centrales de Abastecimiento de Sevilla S.A. (MERCASEVILLA S.A.)\\n\\nVer en Contratero: https://contratero.es/contracts/2021/022
URL:https://contratero.es/contracts/2021/022
STATUS:CONFIRMED
BEGIN:VALARM
TRIGGER:-P1D
ACTION:DISPLAY
DESCRIPTION:Recordatorio: Servicios de mantenimiento y s
END:VALARM
END:VEVENT
END:VCALENDAR