BEGIN:VCALENDAR
VERSION:2.0
PRODID:-//Contratero//ES
CALSCALE:GREGORIAN
METHOD:PUBLISH
BEGIN:VEVENT
UID:2021/0444E@contratero.es
DTSTAMP:20260424T061323Z
DTSTART:20220302T235959
DTEND:20220303T005959
SUMMARY:Cierre: Adecuación sistemas COMINT SCATER SUR pertenecient
DESCRIPTION:Adecuación sistemas COMINT SCATER SUR perteneciente al sistema conjunto de intelingencia y EW SANTIAGO\\n\\nOrganismo: Subdirección General de Adquisiciones de Armamento y Material DGAM\\n\\nVer en Contratero: https://contratero.es/contracts/2021/0444E
URL:https://contratero.es/contracts/2021/0444E
STATUS:CONFIRMED
BEGIN:VALARM
TRIGGER:-P1D
ACTION:DISPLAY
DESCRIPTION:Recordatorio: Adecuación sistemas COMINT SCA
END:VALARM
END:VEVENT
END:VCALENDAR