BEGIN:VCALENDAR
VERSION:2.0
PRODID:-//Contratero//ES
CALSCALE:GREGORIAN
METHOD:PUBLISH
BEGIN:VEVENT
UID:2021/09_101383@contratero.es
DTSTAMP:20260422T225258Z
DTSTART:20210517T235959
DTEND:20210518T005959
SUMMARY:Cierre: Servicio actualización de licencias y mantenimient
DESCRIPTION:Servicio actualización de licencias y mantenimiento correo electrónico Zimbra\\n\\nOrganismo: Junta de Contratación del Fondo Español de Garantía Agraria\\n\\nVer en Contratero: https://contratero.es/contracts/2021/09_101383
URL:https://contratero.es/contracts/2021/09_101383
STATUS:CONFIRMED
BEGIN:VALARM
TRIGGER:-P1D
ACTION:DISPLAY
DESCRIPTION:Recordatorio: Servicio actualización de lice
END:VALARM
END:VEVENT
END:VCALENDAR