BEGIN:VCALENDAR
VERSION:2.0
PRODID:-//Contratero//ES
CALSCALE:GREGORIAN
METHOD:PUBLISH
BEGIN:VEVENT
UID:2021/1124@contratero.es
DTSTAMP:20260419T163546Z
DTSTART:20210628T235959
DTEND:20210629T005959
SUMMARY:Cierre: Delegado de protección de datos (2021/1124)
DESCRIPTION:Delegado de protección de datos (2021/1124)\\n\\nOrganismo: Junta de Gobierno del Ayuntamiento de San Agustín del Guadalix\\n\\nVer en Contratero: https://contratero.es/contracts/2021/1124
URL:https://contratero.es/contracts/2021/1124
STATUS:CONFIRMED
BEGIN:VALARM
TRIGGER:-P1D
ACTION:DISPLAY
DESCRIPTION:Recordatorio: Delegado de protección de dato
END:VALARM
END:VEVENT
END:VCALENDAR