BEGIN:VCALENDAR
VERSION:2.0
PRODID:-//Contratero//ES
CALSCALE:GREGORIAN
METHOD:PUBLISH
BEGIN:VEVENT
UID:2021/1583@contratero.es
DTSTAMP:20260424T153702Z
DTSTART:20211013T235959
DTEND:20211014T005959
SUMMARY:Cierre: Servicio de venta de entradas para el Ayuntamiento
DESCRIPTION:Servicio de venta de entradas para el Ayuntamiento de Loja\, mediante la puesta a disposición\, mantenimiento y actualización de las herramientas lógicas y físicas que posibiliten la venta anticipada\, t...\\n\\nOrganismo: Alcaldía del Ayuntamiento de Loja\\n\\nVer en Contratero: https://contratero.es/contracts/2021/1583
URL:https://contratero.es/contracts/2021/1583
STATUS:CONFIRMED
BEGIN:VALARM
TRIGGER:-P1D
ACTION:DISPLAY
DESCRIPTION:Recordatorio: Servicio de venta de entradas 
END:VALARM
END:VEVENT
END:VCALENDAR