BEGIN:VCALENDAR
VERSION:2.0
PRODID:-//Contratero//ES
CALSCALE:GREGORIAN
METHOD:PUBLISH
BEGIN:VEVENT
UID:2021/3120011766/290@contratero.es
DTSTAMP:20260419T225017Z
DTSTART:20211122T235959
DTEND:20211123T005959
SUMMARY:Cierre: servicios de asistencia técnica para la gestión de
DESCRIPTION:servicios de asistencia técnica para la gestión de la seguridad informática de los sistemas de información de fundae\\n\\nOrganismo: Fundación Estatal para la Formación en el Empleo\, F.S.P.\\n\\nVer en Contratero: https://contratero.es/contracts/2021/3120011766/290
URL:https://contratero.es/contracts/2021/3120011766/290
STATUS:CONFIRMED
BEGIN:VALARM
TRIGGER:-P1D
ACTION:DISPLAY
DESCRIPTION:Recordatorio: servicios de asistencia técnic
END:VALARM
END:VEVENT
END:VCALENDAR