BEGIN:VCALENDAR
VERSION:2.0
PRODID:-//Contratero//ES
CALSCALE:GREGORIAN
METHOD:PUBLISH
BEGIN:VEVENT
UID:2021/3120012030/544@contratero.es
DTSTAMP:20260424T092534Z
DTSTART:20220128T235959
DTEND:20220129T005959
SUMMARY:Cierre: contratación de servicios profesionales para el de
DESCRIPTION:contratación de servicios profesionales para el desarrollo de una estructura en internet para formar en las especialidades de técnico de servicio cpd y técnico en infraestructuras cpd\, que posibilite\\n\\nOrganismo: Fundación Estatal para la Formación en el Empleo\, F.S.P.\\n\\nVer en Contratero: https://contratero.es/contracts/2021/3120012030/544
URL:https://contratero.es/contracts/2021/3120012030/544
STATUS:CONFIRMED
BEGIN:VALARM
TRIGGER:-P1D
ACTION:DISPLAY
DESCRIPTION:Recordatorio: contratación de servicios prof
END:VALARM
END:VEVENT
END:VCALENDAR