BEGIN:VCALENDAR
VERSION:2.0
PRODID:-//Contratero//ES
CALSCALE:GREGORIAN
METHOD:PUBLISH
BEGIN:VEVENT
UID:2021/4/03/04/01/002@contratero.es
DTSTAMP:20260423T001625Z
DTSTART:20210623T235959
DTEND:20210624T005959
SUMMARY:Cierre: Servicio de Mantenimiento\, Asistencia técnica\, y d
DESCRIPTION:Servicio de Mantenimiento\, Asistencia técnica\, y desarrollo de la aplicación para la gestión integrada del itinerario de Inserción Laboral\\n\\nOrganismo: Presidencia del Consorcio del Pacto Territorial para la  Creación de Empleo Pactem Nord\\n\\nVer en Contratero: https://contratero.es/contracts/2021/4/03/04/01/002
URL:https://contratero.es/contracts/2021/4/03/04/01/002
STATUS:CONFIRMED
BEGIN:VALARM
TRIGGER:-P1D
ACTION:DISPLAY
DESCRIPTION:Recordatorio: Servicio de Mantenimiento\, Asi
END:VALARM
END:VEVENT
END:VCALENDAR