BEGIN:VCALENDAR
VERSION:2.0
PRODID:-//Contratero//ES
CALSCALE:GREGORIAN
METHOD:PUBLISH
BEGIN:VEVENT
UID:2021/405040/850-500/00011@contratero.es
DTSTAMP:20260421T072351Z
DTSTART:20220805T235959
DTEND:20220806T005959
SUMMARY:Cierre: Ejecución del contrato de suministro\, desarrollo e
DESCRIPTION:Ejecución del contrato de suministro\, desarrollo e instalación de "SMART CITY TURISMO (SOFTWARE/HARDWARE)" del Ayto de Gérgal. Suministro\, desarrollo e instalación de una plataforma que permita al Ayt...\\n\\nOrganismo: Alcaldía del Ayuntamiento de Gérgal\\n\\nVer en Contratero: https://contratero.es/contracts/2021/405040/850-500/00011
URL:https://contratero.es/contracts/2021/405040/850-500/00011
STATUS:CONFIRMED
BEGIN:VALARM
TRIGGER:-P1D
ACTION:DISPLAY
DESCRIPTION:Recordatorio: Ejecución del contrato de sumi
END:VALARM
END:VEVENT
END:VCALENDAR