BEGIN:VCALENDAR
VERSION:2.0
PRODID:-//Contratero//ES
CALSCALE:GREGORIAN
METHOD:PUBLISH
BEGIN:VEVENT
UID:2021/AR40U/00000712E@contratero.es
DTSTAMP:20260422T081146Z
DTSTART:20210722T235959
DTEND:20210723T005959
SUMMARY:Cierre: AM asistencia técnica y mantenimiento del sistema 
DESCRIPTION:AM asistencia técnica y mantenimiento del sistema SIGMA-WEB de la Armada\\n\\nOrganismo: Dirección de Gestión Económica de la Jefatura de Apoyo Logístico de la Armada\\n\\nVer en Contratero: https://contratero.es/contracts/2021/AR40U/00000712E
URL:https://contratero.es/contracts/2021/AR40U/00000712E
STATUS:CONFIRMED
BEGIN:VALARM
TRIGGER:-P1D
ACTION:DISPLAY
DESCRIPTION:Recordatorio: AM asistencia técnica y manten
END:VALARM
END:VEVENT
END:VCALENDAR