BEGIN:VCALENDAR
VERSION:2.0
PRODID:-//Contratero//ES
CALSCALE:GREGORIAN
METHOD:PUBLISH
BEGIN:VEVENT
UID:2021/AR43U/00001852E@contratero.es
DTSTAMP:20260424T221754Z
DTSTART:20211117T235959
DTEND:20211118T005959
SUMMARY:Cierre: Análisis y desarrollo para la actualización y mode
DESCRIPTION:Análisis y desarrollo para la actualización y modernización del geoportal de infraestructura de datos espaciales del Instituto Hidrográfico de la Marina\\n\\nOrganismo: Intendente de San Fernando\\n\\nVer en Contratero: https://contratero.es/contracts/2021/AR43U/00001852E
URL:https://contratero.es/contracts/2021/AR43U/00001852E
STATUS:CONFIRMED
BEGIN:VALARM
TRIGGER:-P1D
ACTION:DISPLAY
DESCRIPTION:Recordatorio: Análisis y desarrollo para la 
END:VALARM
END:VEVENT
END:VCALENDAR