BEGIN:VCALENDAR
VERSION:2.0
PRODID:-//Contratero//ES
CALSCALE:GREGORIAN
METHOD:PUBLISH
BEGIN:VEVENT
UID:2021/EA15/00001911E@contratero.es
DTSTAMP:20260421T223557Z
DTSTART:20211101T235959
DTEND:20211102T005959
SUMMARY:Cierre: Asistencia técnica al centro de apoyo técnico avan
DESCRIPTION:Asistencia técnica al centro de apoyo técnico avanzado de EA (A)\\n\\nOrganismo: Jefatura de la Sección Económico Administrativa 15 Agrupación del Cuartel General del Ejército del Aire\\n\\nVer en Contratero: https://contratero.es/contracts/2021/EA15/00001911E
URL:https://contratero.es/contracts/2021/EA15/00001911E
STATUS:CONFIRMED
BEGIN:VALARM
TRIGGER:-P1D
ACTION:DISPLAY
DESCRIPTION:Recordatorio: Asistencia técnica al centro d
END:VALARM
END:VEVENT
END:VCALENDAR