BEGIN:VCALENDAR
VERSION:2.0
PRODID:-//Contratero//ES
CALSCALE:GREGORIAN
METHOD:PUBLISH
BEGIN:VEVENT
UID:2021/ETSAE0906/00000633E@contratero.es
DTSTAMP:20260424T172034Z
DTSTART:20210917T235959
DTEND:20210918T005959
SUMMARY:Cierre: Servicio de desarrollo SW para mantenimiento evolu
DESCRIPTION:Servicio de desarrollo SW para mantenimiento evolutivo del Sistema de Mando y Control PROMETEO\\n\\nOrganismo: Jefatura de Asuntos Económicos del Mando de Apoyo Logístico\\n\\nVer en Contratero: https://contratero.es/contracts/2021/ETSAE0906/00000633E
URL:https://contratero.es/contracts/2021/ETSAE0906/00000633E
STATUS:CONFIRMED
BEGIN:VALARM
TRIGGER:-P1D
ACTION:DISPLAY
DESCRIPTION:Recordatorio: Servicio de desarrollo SW para
END:VALARM
END:VEVENT
END:VCALENDAR