BEGIN:VCALENDAR
VERSION:2.0
PRODID:-//Contratero//ES
CALSCALE:GREGORIAN
METHOD:PUBLISH
BEGIN:VEVENT
UID:2021/LIC/0035@contratero.es
DTSTAMP:20260423T015713Z
DTSTART:20210805T235959
DTEND:20210806T005959
SUMMARY:Cierre: Renovación mantenimiento y soporte cortafuegos cor
DESCRIPTION:Renovación mantenimiento y soporte cortafuegos corporativo.\\n\\nOrganismo: Gerencia de EGARSAT\\n\\nVer en Contratero: https://contratero.es/contracts/2021/LIC/0035
URL:https://contratero.es/contracts/2021/LIC/0035
STATUS:CONFIRMED
BEGIN:VALARM
TRIGGER:-P1D
ACTION:DISPLAY
DESCRIPTION:Recordatorio: Renovación mantenimiento y sop
END:VALARM
END:VEVENT
END:VCALENDAR