BEGIN:VCALENDAR
VERSION:2.0
PRODID:-//Contratero//ES
CALSCALE:GREGORIAN
METHOD:PUBLISH
BEGIN:VEVENT
UID:2021/PAC/02032@contratero.es
DTSTAMP:20260419T163644Z
DTSTART:20210625T235959
DTEND:20210626T005959
SUMMARY:Cierre: Servicio de plataforma para la gestión de sistemas
DESCRIPTION:Servicio de plataforma para la gestión de sistemas dinámicos de adquisición en el Ayuntamiento de Ibi (Alicante).\\n\\nOrganismo: Teniente de Alcalde Delegado del Área de Contratación\, Turismo y Seguridad Ciudadana del Ayuntamiento de Ibi\\n\\nVer en Contratero: https://contratero.es/contracts/2021/PAC/02032
URL:https://contratero.es/contracts/2021/PAC/02032
STATUS:CONFIRMED
BEGIN:VALARM
TRIGGER:-P1D
ACTION:DISPLAY
DESCRIPTION:Recordatorio: Servicio de plataforma para la
END:VALARM
END:VEVENT
END:VCALENDAR