BEGIN:VCALENDAR
VERSION:2.0
PRODID:-//Contratero//ES
CALSCALE:GREGORIAN
METHOD:PUBLISH
BEGIN:VEVENT
UID:2021000001010@contratero.es
DTSTAMP:20260425T155312Z
DTSTART:20210301T235959
DTEND:20210302T005959
SUMMARY:Cierre: Auditoría para el mantenimiento del certificado de
DESCRIPTION:Auditoría para el mantenimiento del certificado de calidad conforme a la norme UNE EN ISO 9001:2015 de la Imprenta Nacional\\n\\nOrganismo: Dirección  de la Agencia Estatal Boletín Oficial del Estado\\n\\nVer en Contratero: https://contratero.es/contracts/2021000001010
URL:https://contratero.es/contracts/2021000001010
STATUS:CONFIRMED
BEGIN:VALARM
TRIGGER:-P1D
ACTION:DISPLAY
DESCRIPTION:Recordatorio: Auditoría para el mantenimient
END:VALARM
END:VEVENT
END:VCALENDAR