BEGIN:VCALENDAR
VERSION:2.0
PRODID:-//Contratero//ES
CALSCALE:GREGORIAN
METHOD:PUBLISH
BEGIN:VEVENT
UID:202100000191@contratero.es
DTSTAMP:20260424T171523Z
DTSTART:20210825T235959
DTEND:20210826T005959
SUMMARY:Cierre: Servicio de diseño y construcción de un sistema de
DESCRIPTION:Servicio de diseño y construcción de un sistema de información de analítica avanzada e inteligencia de negocio (21/130)\\n\\nOrganismo: Subdirección General de Tecnologías de la Información y las Comunicaciones\\n\\nVer en Contratero: https://contratero.es/contracts/202100000191
URL:https://contratero.es/contracts/202100000191
STATUS:CONFIRMED
BEGIN:VALARM
TRIGGER:-P1D
ACTION:DISPLAY
DESCRIPTION:Recordatorio: Servicio de diseño y construcc
END:VALARM
END:VEVENT
END:VCALENDAR