BEGIN:VCALENDAR
VERSION:2.0
PRODID:-//Contratero//ES
CALSCALE:GREGORIAN
METHOD:PUBLISH
BEGIN:VEVENT
UID:202100000518@contratero.es
DTSTAMP:20260421T134945Z
DTSTART:20210721T235959
DTEND:20210722T005959
SUMMARY:Cierre: Servicio de desarrollo para el programa de misione
DESCRIPTION:Servicio de desarrollo para el programa de misiones de Inteligencia Artificial (21/102)\\n\\nOrganismo: Secretaría de Estado de Digitalización e Inteligencia Artificial\\n\\nVer en Contratero: https://contratero.es/contracts/202100000518
URL:https://contratero.es/contracts/202100000518
STATUS:CONFIRMED
BEGIN:VALARM
TRIGGER:-P1D
ACTION:DISPLAY
DESCRIPTION:Recordatorio: Servicio de desarrollo para el
END:VALARM
END:VEVENT
END:VCALENDAR