BEGIN:VCALENDAR
VERSION:2.0
PRODID:-//Contratero//ES
CALSCALE:GREGORIAN
METHOD:PUBLISH
BEGIN:VEVENT
UID:2021000489@contratero.es
DTSTAMP:20260424T154939Z
DTSTART:20210915T235959
DTEND:20210916T005959
SUMMARY:Cierre: servicio de desarrollo\, implantacion\, puesta en ma
DESCRIPTION:servicio de desarrollo\, implantacion\, puesta en marcha y mantenimiento posterior de la carpeta personal de salud mi astursalud del servicio de salud del principado de asturias - Infraestructuras\\n\\nOrganismo: Servicio de Salud - Servicios Centrales\\n\\nVer en Contratero: https://contratero.es/contracts/2021000489
URL:https://contratero.es/contracts/2021000489
STATUS:CONFIRMED
BEGIN:VALARM
TRIGGER:-P1D
ACTION:DISPLAY
DESCRIPTION:Recordatorio: servicio de desarrollo\, implan
END:VALARM
END:VEVENT
END:VCALENDAR