BEGIN:VCALENDAR
VERSION:2.0
PRODID:-//Contratero//ES
CALSCALE:GREGORIAN
METHOD:PUBLISH
BEGIN:VEVENT
UID:202103PAS002@contratero.es
DTSTAMP:20260423T071013Z
DTSTART:20210803T235959
DTEND:20210804T005959
SUMMARY:Cierre: Servicio de desarrollo de un módulo Software Clasi
DESCRIPTION:Servicio de desarrollo de un módulo Software Clasificador de conceptos de la extensión nacional para España de la terminología clínica SNOMED CT.\\n\\nOrganismo: Secretaría General de Salud Digital\, Información e Innovacion del Sistema Nacional de Salud\\n\\nVer en Contratero: https://contratero.es/contracts/202103PAS002
URL:https://contratero.es/contracts/202103PAS002
STATUS:CONFIRMED
BEGIN:VALARM
TRIGGER:-P1D
ACTION:DISPLAY
DESCRIPTION:Recordatorio: Servicio de desarrollo de un m
END:VALARM
END:VEVENT
END:VCALENDAR