BEGIN:VCALENDAR
VERSION:2.0
PRODID:-//Contratero//ES
CALSCALE:GREGORIAN
METHOD:PUBLISH
BEGIN:VEVENT
UID:2021375@contratero.es
DTSTAMP:20260421T173015Z
DTSTART:20210716T235959
DTEND:20210717T005959
SUMMARY:Cierre: Suministro de servidores para la supervision de in
DESCRIPTION:Suministro de servidores para la supervision de instalaciones de saneamiento\\n\\nOrganismo: Gerencia de Ecociudad Zaragoza S.A.U. (Medio Propio)\\n\\nVer en Contratero: https://contratero.es/contracts/2021375
URL:https://contratero.es/contracts/2021375
STATUS:CONFIRMED
BEGIN:VALARM
TRIGGER:-P1D
ACTION:DISPLAY
DESCRIPTION:Recordatorio: Suministro de servidores para 
END:VALARM
END:VEVENT
END:VCALENDAR