BEGIN:VCALENDAR
VERSION:2.0
PRODID:-//Contratero//ES
CALSCALE:GREGORIAN
METHOD:PUBLISH
BEGIN:VEVENT
UID:2021PA004182@contratero.es
DTSTAMP:20260423T212257Z
DTSTART:20221123T235959
DTEND:20221124T005959
SUMMARY:Cierre: Servicio para los procesos de transformación e int
DESCRIPTION:Servicio para los procesos de transformación e integración de organismos en el proyecto de puesto de trabajo digital inteligente de la AGE (PTDI-AGE).\\n\\nOrganismo: Junta de Contratación del Ministerio de Asuntos Económicos y Transformación Digital\\n\\nVer en Contratero: https://contratero.es/contracts/2021PA004182
URL:https://contratero.es/contracts/2021PA004182
STATUS:CONFIRMED
BEGIN:VALARM
TRIGGER:-P1D
ACTION:DISPLAY
DESCRIPTION:Recordatorio: Servicio para los procesos de 
END:VALARM
END:VEVENT
END:VCALENDAR