BEGIN:VCALENDAR
VERSION:2.0
PRODID:-//Contratero//ES
CALSCALE:GREGORIAN
METHOD:PUBLISH
BEGIN:VEVENT
UID:2021_051@contratero.es
DTSTAMP:20260424T235732Z
DTSTART:20210721T235959
DTEND:20210722T005959
SUMMARY:Cierre: Servicio de soporte y garantía del software antivi
DESCRIPTION:Servicio de soporte y garantía del software antivirus de Trend Micro para la Universidad Miguel Hernández de Elche\\n\\nOrganismo: Rectorado de la Universidad Miguel Hernández de Elche\\n\\nVer en Contratero: https://contratero.es/contracts/2021_051
URL:https://contratero.es/contracts/2021_051
STATUS:CONFIRMED
BEGIN:VALARM
TRIGGER:-P1D
ACTION:DISPLAY
DESCRIPTION:Recordatorio: Servicio de soporte y garantía
END:VALARM
END:VEVENT
END:VCALENDAR