BEGIN:VCALENDAR
VERSION:2.0
PRODID:-//Contratero//ES
CALSCALE:GREGORIAN
METHOD:PUBLISH
BEGIN:VEVENT
UID:2022-00123@contratero.es
DTSTAMP:20260423T035730Z
DTSTART:20220215T235959
DTEND:20220216T005959
SUMMARY:Cierre: Servicio Especializado en Gestión de la Base de Da
DESCRIPTION:Servicio Especializado en Gestión de la Base de Datos de Población Protegida por el SNS\\n\\nOrganismo: Consejero Delegado de Ingeniería de Sistemas para la Defensa de España S.A.\, S.M.E. y M.P.\\n\\nVer en Contratero: https://contratero.es/contracts/2022-00123
URL:https://contratero.es/contracts/2022-00123
STATUS:CONFIRMED
BEGIN:VALARM
TRIGGER:-P1D
ACTION:DISPLAY
DESCRIPTION:Recordatorio: Servicio Especializado en Gest
END:VALARM
END:VEVENT
END:VCALENDAR