BEGIN:VCALENDAR
VERSION:2.0
PRODID:-//Contratero//ES
CALSCALE:GREGORIAN
METHOD:PUBLISH
BEGIN:VEVENT
UID:2022-002-083@contratero.es
DTSTAMP:20260423T194045Z
DTSTART:20220915T235959
DTEND:20220916T005959
SUMMARY:Cierre: Servicios de rehabilitación para patologías del se
DESCRIPTION:Servicios de rehabilitación para patologías del segmento muñeca\, mano y dedos a través de dispositivos smartphones\, tablets y ordenadores a pacientes de Mutua Montañesa\\n\\nOrganismo: Dirección General de Mutua Montañesa\\n\\nVer en Contratero: https://contratero.es/contracts/2022-002-083
URL:https://contratero.es/contracts/2022-002-083
STATUS:CONFIRMED
BEGIN:VALARM
TRIGGER:-P1D
ACTION:DISPLAY
DESCRIPTION:Recordatorio: Servicios de rehabilitación pa
END:VALARM
END:VEVENT
END:VCALENDAR