BEGIN:VCALENDAR
VERSION:2.0
PRODID:-//Contratero//ES
CALSCALE:GREGORIAN
METHOD:PUBLISH
BEGIN:VEVENT
UID:2022-002-110@contratero.es
DTSTAMP:20260423T194035Z
DTSTART:20220916T235959
DTEND:20220917T005959
SUMMARY:Cierre: Servicio de licencias Gotomeeting para Mutua Monta
DESCRIPTION:Servicio de licencias Gotomeeting para Mutua Montañesa\\n\\nOrganismo: Dirección General de Mutua Montañesa\\n\\nVer en Contratero: https://contratero.es/contracts/2022-002-110
URL:https://contratero.es/contracts/2022-002-110
STATUS:CONFIRMED
BEGIN:VALARM
TRIGGER:-P1D
ACTION:DISPLAY
DESCRIPTION:Recordatorio: Servicio de licencias Gotomeet
END:VALARM
END:VEVENT
END:VCALENDAR