BEGIN:VCALENDAR
VERSION:2.0
PRODID:-//Contratero//ES
CALSCALE:GREGORIAN
METHOD:PUBLISH
BEGIN:VEVENT
UID:2022-00380@contratero.es
DTSTAMP:20260423T113515Z
DTSTART:20230112T235959
DTEND:20230113T005959
SUMMARY:Cierre: Servicio de implantación y utilización en modo saa
DESCRIPTION:Servicio de implantación y utilización en modo saas del sistema de suscripciones\\n\\nOrganismo: Dirección General de Renfe Viajeros Sociedad Mercantil Estatal\, S.A.\\n\\nVer en Contratero: https://contratero.es/contracts/2022-00380
URL:https://contratero.es/contracts/2022-00380
STATUS:CONFIRMED
BEGIN:VALARM
TRIGGER:-P1D
ACTION:DISPLAY
DESCRIPTION:Recordatorio: Servicio de implantación y uti
END:VALARM
END:VEVENT
END:VCALENDAR