BEGIN:VCALENDAR
VERSION:2.0
PRODID:-//Contratero//ES
CALSCALE:GREGORIAN
METHOD:PUBLISH
BEGIN:VEVENT
UID:2022-00420@contratero.es
DTSTAMP:20260423T212207Z
DTSTART:20221122T235959
DTEND:20221123T005959
SUMMARY:Cierre: Servicio de desarrollo software\, evolución y mante
DESCRIPTION:Servicio de desarrollo software\, evolución y mantenimiento de los sistemas de control de accesos de los núcleos de cercanías de Renfe Viajeros S.M.E.\, S.A. en el Marco Del Plan De Recuperación\, Transf...\\n\\nOrganismo: Dirección General de Renfe Viajeros Sociedad Mercantil Estatal\, S.A.\\n\\nVer en Contratero: https://contratero.es/contracts/2022-00420
URL:https://contratero.es/contracts/2022-00420
STATUS:CONFIRMED
BEGIN:VALARM
TRIGGER:-P1D
ACTION:DISPLAY
DESCRIPTION:Recordatorio: Servicio de desarrollo softwar
END:VALARM
END:VEVENT
END:VCALENDAR