BEGIN:VCALENDAR
VERSION:2.0
PRODID:-//Contratero//ES
CALSCALE:GREGORIAN
METHOD:PUBLISH
BEGIN:VEVENT
UID:2022-00557@contratero.es
DTSTAMP:20260424T105417Z
DTSTART:20220504T235959
DTEND:20220505T005959
SUMMARY:Cierre: Contratación de servicios de apoyo al seguimiento 
DESCRIPTION:Contratación de servicios de apoyo al seguimiento y control por el Plan de Recuperación\, Transformación y Resiliencia (PRTR) en SETELECO.\\n\\nOrganismo: Consejero Delegado de Ingeniería de Sistemas para la Defensa de España S.A.\, S.M.E. y M.P.\\n\\nVer en Contratero: https://contratero.es/contracts/2022-00557
URL:https://contratero.es/contracts/2022-00557
STATUS:CONFIRMED
BEGIN:VALARM
TRIGGER:-P1D
ACTION:DISPLAY
DESCRIPTION:Recordatorio: Contratación de servicios de a
END:VALARM
END:VEVENT
END:VCALENDAR