BEGIN:VCALENDAR
VERSION:2.0
PRODID:-//Contratero//ES
CALSCALE:GREGORIAN
METHOD:PUBLISH
BEGIN:VEVENT
UID:2022-0096@contratero.es
DTSTAMP:20260425T224509Z
DTSTART:20220530T235959
DTEND:20220531T005959
SUMMARY:Cierre: Contratación del servicio de soporte\, mantenimient
DESCRIPTION:Contratación del servicio de soporte\, mantenimiento y actualización de licencias de bases de datos y aplicaciones informáticas Oracle\, en Paradores de Turismo de España\, S.M.E.\, S.A.\\n\\nOrganismo: Paradores de Turismo de España\, S.M.E.\, S.A.\\n\\nVer en Contratero: https://contratero.es/contracts/2022-0096
URL:https://contratero.es/contracts/2022-0096
STATUS:CONFIRMED
BEGIN:VALARM
TRIGGER:-P1D
ACTION:DISPLAY
DESCRIPTION:Recordatorio: Contratación del servicio de s
END:VALARM
END:VEVENT
END:VCALENDAR